BEGIN:VCALENDAR
VERSION:2.0
PRODID:-//ChamberMaster//Event Calendar 2.0//EN
METHOD:PUBLISH
X-PUBLISHED-TTL:P3D
REFRESH-INTERVAL:P3D
CALSCALE:GREGORIAN
BEGIN:VEVENT
DTSTART:20220307T150000Z
DTEND:20220308T030000Z
X-MICROSOFT-CDO-ALLDAYEVENT:FALSE
SUMMARY:Zeen Pop-Up Event
DESCRIPTION:Join us at 9Round Hermosa Beach to check out the firsts-of-its-kind mobility device - the Zeen! Experience the Zeen\, explore how it can be incorporated in the 9Round circuit and enjoy healthy snacks and compliments of ReadyFitGo!
X-ALT-DESC;FMTTYPE=text/html:Join us at 9Round Hermosa Beach to check out the firsts-of-its-kind mobility device - the Zeen! Experience the Zeen\, explore how it can be incorporated in the 9Round circuit and enjoy healthy snacks and compliments of ReadyFitGo!
LOCATION:9Round Fitness 1109 Aviation Blvd. Hermosa Beach\, 90254
UID:e.2438.5291
SEQUENCE:3
DTSTAMP:20260421T111544Z
URL:https://business.hbchamber.net/events/details/zeen-pop-up-event-5291
END:VEVENT

END:VCALENDAR
