BEGIN:VCALENDAR
VERSION:2.0
PRODID:-//ChamberMaster//Event Calendar 2.0//EN
METHOD:PUBLISH
X-PUBLISHED-TTL:P3D
REFRESH-INTERVAL:P3D
CALSCALE:GREGORIAN
BEGIN:VEVENT
DTSTART:20250617T150000Z
DTEND:20250618T020000Z
X-MICROSOFT-CDO-ALLDAYEVENT:FALSE
SUMMARY:World Championship Trials
DESCRIPTION:USA Volleyball (USAV) will host its U19 World Championship Trials on the north side of the Pier.\n\n\n\nFor more information\, visit www.usavolleyball.org.
X-ALT-DESC;FMTTYPE=text/html:USA Volleyball (USAV) will host its U19 World Championship Trials on the north side of the Pier.<br />\n<br />\nFor more information\, visit <a href="http://www.usavolleyball.org">www.usavolleyball.org</a>.
LOCATION:Volleyball Courts 1 Pier Avenue Hermosa Beach\, California 90254
UID:e.2438.12427
SEQUENCE:3
DTSTAMP:20260423T021304Z
URL:https://business.hbchamber.net/events/details/world-championship-trials-12427
END:VEVENT

END:VCALENDAR
