BEGIN:VCALENDAR
VERSION:2.0
PRODID:-//ChamberMaster//Event Calendar 2.0//EN
METHOD:PUBLISH
X-PUBLISHED-TTL:P3D
REFRESH-INTERVAL:P3D
CALSCALE:GREGORIAN
BEGIN:VEVENT
DTSTART:20220325T000000Z
DTEND:20220325T020000Z
X-MICROSOFT-CDO-ALLDAYEVENT:FALSE
SUMMARY:Woman's Club: 100 Year Celebration
DESCRIPTION:You're invited to join the Woman's Club of Hermosa Beach on their celebration of 100 years of service in Hermosa Beach! Tickets are $30 per person and can be purchased online NOW. Hurry - tickets are limited!
X-ALT-DESC;FMTTYPE=text/html:You&#39\;re invited to join the Woman&#39\;s Club of Hermosa Beach on their celebration of 100 years of service in Hermosa Beach! Tickets are $30 per person and can be purchased online NOW. Hurry - tickets are limited!
LOCATION:Hermosa Beach Historical Society & Museum 710 Pier Ave. Hermosa Beach\, 90254
UID:e.2438.5170
SEQUENCE:3
DTSTAMP:20260421T105742Z
URL:https://business.hbchamber.net/events/details/woman-s-club-100-year-celebration-5170
END:VEVENT

END:VCALENDAR
