BEGIN:VCALENDAR
VERSION:2.0
PRODID:-//ChamberMaster//Event Calendar 2.0//EN
METHOD:PUBLISH
X-PUBLISHED-TTL:P3D
REFRESH-INTERVAL:P3D
CALSCALE:GREGORIAN
BEGIN:VEVENT
DTSTART;VALUE=DATE:20250104
DTEND;VALUE=DATE:20250106
TRANSP:TRANSPARENT
X-MICROSOFT-CDO-ALLDAYEVENT:TRUE
SUMMARY:Winter Sidewalk Sale
DESCRIPTION:Come out and enjoy a pop-up market on the Upper Pier sidewalk and enjoy all your other local favorite shops and restaurants just two weeks after Christmas. Enjoy post holiday sales like never before! And of course don't forget about the live music at Java Man all weekend long.
X-ALT-DESC;FMTTYPE=text/html:Come out and enjoy a pop-up market on the Upper Pier sidewalk and enjoy all your other local favorite shops and restaurants just two weeks after Christmas. Enjoy post holiday sales like never before! And of course don&#39\;t forget about the live music at Java Man all weekend long.
LOCATION:Downtown Hermosa & Along Pier Ave
UID:e.2438.11103
SEQUENCE:3
DTSTAMP:20260420T181338Z
URL:https://business.hbchamber.net/events/details/winter-sidewalk-sale-11103
END:VEVENT

END:VCALENDAR
