BEGIN:VCALENDAR
VERSION:2.0
PRODID:-//ChamberMaster//Event Calendar 2.0//EN
METHOD:PUBLISH
X-PUBLISHED-TTL:P3D
REFRESH-INTERVAL:P3D
CALSCALE:GREGORIAN
BEGIN:VEVENT
DTSTART:20220217T010000Z
DTEND:20220217T030000Z
X-MICROSOFT-CDO-ALLDAYEVENT:FALSE
SUMMARY:Winemaker Series- Byron Blatty Wines
DESCRIPTION:Byron Blatty's focus is on limited-edition\, handcrafted red wines that feature sustainably farmed\, family-owned vineyards in Los Angeles County. They work with over six vineyards\, including one they farm themselves\, and fifteen different varietals from every corner of the county\, selecting only the most interesting\, and unique expressions of Los Angeles terroir to feature in their carefully crafted wines. Click on the wines listed below to read tech sheets for each of the wines. Check out their episode on Somm TV here. Go to their website here.
X-ALT-DESC;FMTTYPE=text/html:<p style="box-sizing: border-box\; overflow-wrap: break-word\; margin: 0px 0px 10px\; line-height: 1.7\; color: rgb(0\, 0\, 0)\; font-family: Montserrat\, sans-serif\; font-size: 16px\; text-align: center\;"><span style="color: rgb(0\, 0\, 0)\; font-family: Montserrat\, sans-serif\; font-size: 16px\;">Byron Blatty&#39\;s focus is on limited-edition\, handcrafted red wines that feature sustainably farmed\, family-owned vineyards in Los Angeles County. They work with over six vineyards\, including one they farm themselves\, and fifteen different varietals from every corner of the county\, selecting only the most interesting\, and unique expressions of Los Angeles terroir to feature in their carefully crafted wines. Click on the wines listed below to read tech sheets for each of the wines. Check out their episode on Somm TV&nbsp\;</span><span style="box-sizing: border-box\; color: rgb(0\, 0\, 0)\; font-family: Montserrat\, sans-serif\; font-size: 16px\; text-decoration-line: underline\;"><a href="https://byronblatty.com/press" style="box-sizing: border-box\; text-decoration-line: none\; color: var(--tec-color-link-accent)\; background-color: transparent\;">here.</a></span><span style="color: rgb(0\, 0\, 0)\; font-family: Montserrat\, sans-serif\; font-size: 16px\;">&nbsp\;Go to their website&nbsp\;</span><span style="box-sizing: border-box\; color: rgb(0\, 0\, 0)\; font-family: Montserrat\, sans-serif\; font-size: 16px\; text-decoration-line: underline\;"><a href="https://byronblatty.com/" style="box-sizing: border-box\; text-decoration-line: none\; color: var(--tec-color-link-accent)\; background-color: transparent\;">here.</a></span></p>\n
LOCATION:Uncorked Wine Shops 302 Pier Ave. Hermosa Beach\, 90254
UID:e.2438.5128
SEQUENCE:3
DTSTAMP:20260421T132527Z
URL:https://business.hbchamber.net/events/details/winemaker-series-byron-blatty-wines-5128
END:VEVENT

END:VCALENDAR
