BEGIN:VCALENDAR
VERSION:2.0
PRODID:-//ChamberMaster//Event Calendar 2.0//EN
METHOD:PUBLISH
X-PUBLISHED-TTL:P3D
REFRESH-INTERVAL:P3D
CALSCALE:GREGORIAN
BEGIN:VEVENT
DTSTART:20240209T020000Z
DTEND:20240209T040000Z
X-MICROSOFT-CDO-ALLDAYEVENT:FALSE
SUMMARY:Wine & Wills: FREE Estate Planning Event
DESCRIPTION:Join Attorney Rosanna Savone for an evening of Estate Planning education\, learning all about the importance of securing your assets and keeping your loved ones out of court and conflict.\n\n\n\nSee how you can provide peace of mind for your family\, all the while enjoying some complimentary wine.
X-ALT-DESC;FMTTYPE=text/html:Join Attorney Rosanna Savone for an evening of Estate Planning education\, learning all about the importance of securing your assets and keeping your loved ones out of court and conflict.<br />\n<br />\nSee how you can provide peace of mind for your family\, all the while enjoying some complimentary wine.
LOCATION:Radici 934 Hermosa Ave\, Hermosa Beach\, CA 90254
UID:e.2438.9339
SEQUENCE:3
DTSTAMP:20260419T131727Z
URL:https://business.hbchamber.net/events/details/wine-wills-free-estate-planning-event-9339
END:VEVENT

END:VCALENDAR
