BEGIN:VCALENDAR
VERSION:2.0
PRODID:-//ChamberMaster//Event Calendar 2.0//EN
METHOD:PUBLISH
X-PUBLISHED-TTL:P3D
REFRESH-INTERVAL:P3D
CALSCALE:GREGORIAN
BEGIN:VEVENT
DTSTART:20240223T010000Z
DTEND:20240223T040000Z
X-MICROSOFT-CDO-ALLDAYEVENT:FALSE
SUMMARY:Wine Tasting with Jason from Bocce Ball Wine
DESCRIPTION:Jason from Bocce Ball Wine will stop by to pour some of his latest vintage from Santa Barbara County and tell you about his winery. And if you have any questions regarding the rules of Bocce Ball\, he may be able to answer those too!
X-ALT-DESC;FMTTYPE=text/html:Jason from Bocce Ball Wine will stop by to pour some of his latest vintage from Santa Barbara County and tell you about his winery. And if you have any questions regarding the rules of Bocce Ball\, he may be able to answer those too!
LOCATION:Uncorked\, Manhattan Beach
UID:e.2438.9376
SEQUENCE:3
DTSTAMP:20260419T131519Z
URL:https://business.hbchamber.net/events/details/wine-tasting-with-jason-from-bocce-ball-wine-9376
END:VEVENT

END:VCALENDAR
