BEGIN:VCALENDAR
VERSION:2.0
PRODID:-//ChamberMaster//Event Calendar 2.0//EN
METHOD:PUBLISH
X-PUBLISHED-TTL:P3D
REFRESH-INTERVAL:P3D
CALSCALE:GREGORIAN
BEGIN:VEVENT
DTSTART:20240320T000000Z
DTEND:20240320T030000Z
X-MICROSOFT-CDO-ALLDAYEVENT:FALSE
SUMMARY:Wine Tasting- Winemaker Miro from Trentadue La Storia\, Sonoma
DESCRIPTION:Join us as we welcome Winemaker Miro Tcholakov from Trentadue in Geyerserville\, Sonoma. He'll be pouring wines from his "La Storia" line\, including Chardonnay\, Merlot\, Cabernet Sauvignon\, and Petite Sirah.
X-ALT-DESC;FMTTYPE=text/html:Join us as we welcome Winemaker Miro Tcholakov from Trentadue in Geyerserville\, Sonoma. He&#39\;ll be pouring wines from his &quot\;La Storia&quot\; line\, including Chardonnay\, Merlot\, Cabernet Sauvignon\, and Petite Sirah.
LOCATION:Uncorked Manhattan Beach. 1000 Manhattan Ave
UID:e.2438.9416
SEQUENCE:3
DTSTAMP:20260419T145958Z
URL:https://business.hbchamber.net/events/details/wine-tasting-winemaker-miro-from-trentadue-la-storia-sonoma-9416
END:VEVENT

END:VCALENDAR
