BEGIN:VCALENDAR
VERSION:2.0
PRODID:-//ChamberMaster//Event Calendar 2.0//EN
METHOD:PUBLISH
X-PUBLISHED-TTL:P3D
REFRESH-INTERVAL:P3D
CALSCALE:GREGORIAN
BEGIN:VEVENT
DTSTART:20250425T000000Z
DTEND:20250425T030000Z
X-MICROSOFT-CDO-ALLDAYEVENT:FALSE
SUMMARY:Wine of Portugal
DESCRIPTION:In case you don't know...Portugal is producing some of the best wines in the world\, and with the exchange rate what it is\, we're seeing some excellent bargains on these great wines as well.\n\n\n\nJoin us as we welcome Sandra Gomes Rocha of Diniz Cellars (they specialize in fine Portuguese wines) for a flight of fantastic Portuguese wines. We'll be pouring wines from four different regions to further your Portuguese wine knowledge and expose you to a cross-section of excellent wines. \n\n\n\nDiniz Cellars - Making the Old World New Again
X-ALT-DESC;FMTTYPE=text/html:In case you don&#39\;t know...Portugal is producing some of the best wines in the world\, and with the exchange rate what it is\, we&#39\;re seeing some excellent bargains on these great wines as well.<br />\n<br />\nJoin us as we welcome Sandra Gomes Rocha of <a href="https://dinizcellars.com/">Diniz Cellars</a> (they specialize in fine Portuguese wines) for a flight of fantastic Portuguese wines. We&#39\;ll be pouring wines from four different regions to further your Portuguese wine knowledge and expose you to a cross-section of excellent wines.&nbsp\;<br />\n<br />\n<a href="https://dinizcellars.com/">Diniz Cellars</a> - Making the Old World New Again
LOCATION:Uncorked\, Hermosa Beach 302 Pier Ave Hermosa Beach\, CA 90254
UID:e.2438.11529
SEQUENCE:3
DTSTAMP:20260422T211544Z
URL:https://business.hbchamber.net/events/details/wine-of-portugal-11529
END:VEVENT

END:VCALENDAR
