BEGIN:VCALENDAR
VERSION:2.0
PRODID:-//ChamberMaster//Event Calendar 2.0//EN
METHOD:PUBLISH
X-PUBLISHED-TTL:P3D
REFRESH-INTERVAL:P3D
CALSCALE:GREGORIAN
BEGIN:VEVENT
DTSTART:20241206T010000Z
DTEND:20241206T040000Z
X-MICROSOFT-CDO-ALLDAYEVENT:FALSE
SUMMARY:Wine Club Holiday Party
DESCRIPTION:Get ready to kick off the holiday season with a bang at our Wine Club Holiday Pick-Up Party on December 5th from 5 to 8 pm at our Hermosa location. It's going to be a festive evening filled with complimentary wine\, bubbles\, cheese\, and charcuterie. Troubadour BJ Arnold will be there to set the mood\, and to make your holidays even brighter\, all merchandise and cases of wine will be 20% off during the party.
X-ALT-DESC;FMTTYPE=text/html:Get ready to kick off the holiday season with a bang at our Wine Club Holiday Pick-Up Party on December 5th from 5 to 8 pm at our Hermosa location. It&#39\;s going to be a festive evening filled with complimentary wine\, bubbles\, cheese\, and charcuterie. Troubadour BJ Arnold will be there to set the mood\, and to make your holidays even brighter\, all merchandise and cases of wine will be 20% off during the party.
LOCATION:Uncorked Hermosa 302 Pier Ave Hermosa Beach\, CA 90254
UID:e.2438.11048
SEQUENCE:3
DTSTAMP:20260422T173221Z
URL:https://business.hbchamber.net/events/details/wine-club-holiday-party-11048
END:VEVENT

END:VCALENDAR
