BEGIN:VCALENDAR
VERSION:2.0
PRODID:-//ChamberMaster//Event Calendar 2.0//EN
METHOD:PUBLISH
X-PUBLISHED-TTL:P3D
REFRESH-INTERVAL:P3D
CALSCALE:GREGORIAN
BEGIN:VEVENT
DTSTART:20220409T000000Z
DTEND:20220409T030000Z
X-MICROSOFT-CDO-ALLDAYEVENT:FALSE
SUMMARY:Wine + Cheese Pairing
DESCRIPTION:Join us this Friday\, April 8\, from 5-8 pm at our Hermosa location for a wine & cheese pairing with Cultured Slice cheese shop! Solange Comer (Cheesemonger in Charge from Cultured Slice) will provide hard-to-find\, artisan cheeses and will be on hand to talk cheese. Uncorked will provide curated wines that pair expertly with the cheese. Cheers!
X-ALT-DESC;FMTTYPE=text/html:Join us this Friday\, April 8\, from 5-8 pm at our Hermosa location for a wine &amp\; cheese pairing with Cultured Slice cheese shop! Solange Comer (Cheesemonger in Charge from Cultured Slice) will provide hard-to-find\, artisan cheeses and will be on hand to talk cheese. Uncorked will provide curated wines that pair expertly with the cheese. Cheers!
LOCATION:Uncorked. 302 Pier Ave
UID:e.2438.5406
SEQUENCE:3
DTSTAMP:20260421T091214Z
URL:https://business.hbchamber.net/events/details/wine-cheese-pairing-5406
END:VEVENT

END:VCALENDAR
