BEGIN:VCALENDAR
VERSION:2.0
PRODID:-//ChamberMaster//Event Calendar 2.0//EN
METHOD:PUBLISH
X-PUBLISHED-TTL:P3D
REFRESH-INTERVAL:P3D
CALSCALE:GREGORIAN
BEGIN:VEVENT
DTSTART:20240811T000000Z
DTEND:20240811T030000Z
X-MICROSOFT-CDO-ALLDAYEVENT:FALSE
SUMMARY:White Light White Night
DESCRIPTION:Walk With Sally is celebrating 20 years\n\n\n\nof impact this year!\n\n\n\n\n\n\n\nWhite Light White Night is Walk With Sally's annual South Bay gala focused on uniting and inspiring the community through creativity and joy\, while raising awareness and critical funds needed to support our mission.\n\n\n\n\n\n\n\nThroughout the world and various cultures\, the symbolism of the color white claims to represent ones connection to their own divinity\, higher self and ability to heal. White light is also unique in that it's the only color that contains all colors in equal measure\; being the ultimate representation of the power of equality and unity. \n\n\n\nIn honor of that\, we as a community come together to BE THE LIGHT.
X-ALT-DESC;FMTTYPE=text/html:Walk With Sally is celebrating 20 years<br />\n<br />\nof impact this year!<br />\n<br />\n<br />\n<br />\nWhite Light White Night is Walk With Sally&#39\;s annual South Bay gala focused on uniting and inspiring the community through creativity and joy\, while raising awareness and critical funds needed to support our mission.<br />\n<br />\n<br />\n<br />\nThroughout the world and various cultures\, the symbolism of the color white claims to represent ones connection to their own divinity\, higher self and ability to heal. White light is also unique in that it&#39\;s the only color that contains all colors in equal measure\; being the ultimate representation of the power of equality and unity.&nbsp\;<br />\n<br />\nIn honor of that\, we as a community come together to BE THE LIGHT.
LOCATION:TBD
UID:e.2438.9589
SEQUENCE:3
DTSTAMP:20260420T021855Z
URL:https://business.hbchamber.net/events/details/white-light-white-night-9589
END:VEVENT

END:VCALENDAR
