BEGIN:VCALENDAR
VERSION:2.0
PRODID:-//ChamberMaster//Event Calendar 2.0//EN
METHOD:PUBLISH
X-PUBLISHED-TTL:P3D
REFRESH-INTERVAL:P3D
CALSCALE:GREGORIAN
BEGIN:VEVENT
DTSTART:20250429T150000Z
DTEND:20250429T170000Z
X-MICROSOFT-CDO-ALLDAYEVENT:FALSE
SUMMARY:What the Fuzz? Run\, Jog\, or Walk\, then Talk!
DESCRIPTION:You are cordially invited to participate in the next WTF event "Run\, Jog\, or Walk\, Then Talk!". The flyer is attached with a QR code for you to sign up using Teams. There will be a 5k run option as well as a 2 mile walk option. The 5K route is attached to the invitation as a Google Maps.\n\n\n\nClick this link or scan the QR code in the image above to RSVP
X-ALT-DESC;FMTTYPE=text/html:<br />\nYou are cordially invited to participate in the next WTF event &ldquo\;Run\, Jog\, or Walk\, Then Talk!&rdquo\;. The flyer is attached with a QR code for you to sign up using Teams. There will be a 5k run option as well as a 2 mile walk option. The 5K route is attached to the invitation as a Google Maps.<br />\n<br />\n<a href="https://forms.office.com/pages/responsepage.aspx?id=nl4RFeqhIkmCJQAQZbYnqZtZ7xR4HO1CuIbtTL-7o5JUQktSQVE4VTZSNEpVUFBYTFRNWlExUlNXRC4u&amp\;origin=QRCode&amp\;qrcodeorigin=presentation&amp\;route=shorturl">Click this link or scan the QR code in the image above to RSVP</a>
LOCATION:Start & Finish @ Gitana Cafe 2600 Hermosa Ave Hermosa Beach\, California 90254
UID:e.2438.11561
SEQUENCE:3
DTSTAMP:20260422T214141Z
URL:https://business.hbchamber.net/events/details/what-the-fuzz-run-jog-or-walk-then-talk-11561
END:VEVENT

END:VCALENDAR
