BEGIN:VCALENDAR
VERSION:2.0
PRODID:-//ChamberMaster//Event Calendar 2.0//EN
METHOD:PUBLISH
X-PUBLISHED-TTL:P3D
REFRESH-INTERVAL:P3D
CALSCALE:GREGORIAN
BEGIN:VEVENT
DTSTART:20250313T150000Z
DTEND:20250313T170000Z
X-MICROSOFT-CDO-ALLDAYEVENT:FALSE
SUMMARY:What the Fuzz
DESCRIPTION:Join us for the What the Fuzz event at Starbucks on Thursday\, March 13th. See you there!
X-ALT-DESC;FMTTYPE=text/html:Join us for the What the Fuzz event at Starbucks on Thursday\, March 13th. See you there!&nbsp\;
LOCATION:Starbucks 1303 Hermosa Ave Hermosa Beach\, CA 90254
UID:e.2438.11445
SEQUENCE:3
DTSTAMP:20260422T192308Z
URL:https://business.hbchamber.net/events/details/what-the-fuzz-11445
END:VEVENT

END:VCALENDAR
