BEGIN:VCALENDAR
VERSION:2.0
PRODID:-//ChamberMaster//Event Calendar 2.0//EN
METHOD:PUBLISH
X-PUBLISHED-TTL:P3D
REFRESH-INTERVAL:P3D
CALSCALE:GREGORIAN
BEGIN:VEVENT
DTSTART:20241017T003000Z
DTEND:20241017T013000Z
X-MICROSOFT-CDO-ALLDAYEVENT:FALSE
SUMMARY:Wednesday Wine + Bingo at Uncorked Hermosa Beach
DESCRIPTION:Make your hump day a fun day! Join our very own Jan Whitson as she hosts a wine-infused bingo tourney. The balls start dropping at 5:30 PM\, the cost is $30 (no discounts)\, and reservations are required (call 424-247-7117). The price includes a flight of wine (let me do the math...that means the bingo is practically free). Prizes will be awarded at the end of the night!
X-ALT-DESC;FMTTYPE=text/html:Make your hump day a fun day! Join our very own Jan Whitson as she hosts a wine-infused bingo tourney. The balls start dropping at 5:30 PM\, the cost is $30 (no discounts)\, and reservations are required (call 424-247-7117). The price includes a flight of wine (let me do the math...that means the bingo is practically free). Prizes will be awarded at the end of the night!
LOCATION:Uncorked Hermosa 302 Pier Ave Hermosa Beach\, CA 90254
UID:e.2438.10657
SEQUENCE:3
DTSTAMP:20260421T034510Z
URL:https://business.hbchamber.net/events/details/wednesday-wine-bingo-at-uncorked-hermosa-beach-10657
END:VEVENT

END:VCALENDAR
