BEGIN:VCALENDAR
VERSION:2.0
PRODID:-//ChamberMaster//Event Calendar 2.0//EN
METHOD:PUBLISH
X-PUBLISHED-TTL:P3D
REFRESH-INTERVAL:P3D
CALSCALE:GREGORIAN
BEGIN:VEVENT
DTSTART:20250626T003000Z
DTEND:20250626T013000Z
X-MICROSOFT-CDO-ALLDAYEVENT:FALSE
SUMMARY:Wednesday Wine + Bingo
DESCRIPTION:Make your hump day a fun day! Join our very own Jan Whitson as she hosts a wine-infused bingo tourney. Prizes will be awarded at the end of the night!
X-ALT-DESC;FMTTYPE=text/html:Make your hump day a fun day! Join our very own Jan Whitson as she hosts a wine-infused bingo tourney. Prizes will be awarded at the end of the night!
LOCATION:Uncorked Hermosa 302 Pier Ave Hermosa Beach\, CA
UID:e.2438.12420
SEQUENCE:3
DTSTAMP:20260423T023544Z
URL:https://business.hbchamber.net/events/details/wednesday-wine-bingo-12420
END:VEVENT

END:VCALENDAR
