BEGIN:VCALENDAR
VERSION:2.0
PRODID:-//ChamberMaster//Event Calendar 2.0//EN
METHOD:PUBLISH
X-PUBLISHED-TTL:P3D
REFRESH-INTERVAL:P3D
CALSCALE:GREGORIAN
BEGIN:VEVENT
DTSTART:20240804T000000Z
DTEND:20240804T040000Z
X-MICROSOFT-CDO-ALLDAYEVENT:FALSE
SUMMARY:Water & Wood 2024
DESCRIPTION:Water and Wood is Resin Hermosa's annual\, community-wide art show. Immerse yourself in a world of South Bay Creativity on August 3rd\, 5-9pm. Enjoy wine from uncorked as you meander through a multi-media exhibition celebrating two of South Bay's most formative ingredients\; Water & Wood.
X-ALT-DESC;FMTTYPE=text/html:Water and Wood is Resin Hermosa&#39\;s annual\, community-wide art show. Immerse yourself in a world of South Bay Creativity on August 3rd\, 5-9pm. Enjoy wine from uncorked as you meander through a multi-media exhibition celebrating two of South Bay&#39\;s most formative ingredients\; Water &amp\; Wood.
LOCATION:Resin Hermosa 618 Cypress Ave Hermosa Beach\, Ca 90254
UID:e.2438.9690
SEQUENCE:3
DTSTAMP:20260421T071415Z
URL:https://business.hbchamber.net/events/details/water-wood-2024-9690
END:VEVENT

END:VCALENDAR
