BEGIN:VCALENDAR
VERSION:2.0
PRODID:-//ChamberMaster//Event Calendar 2.0//EN
METHOD:PUBLISH
X-PUBLISHED-TTL:P3D
REFRESH-INTERVAL:P3D
CALSCALE:GREGORIAN
BEGIN:VEVENT
DTSTART:20211023T170000Z
DTEND:20211023T190000Z
X-MICROSOFT-CDO-ALLDAYEVENT:FALSE
SUMMARY:Water Harvest: S.T.E.A.M. Adventure
DESCRIPTION:Join for S.T.E.A.M. (Science\, Technology\, Engineering and Math) Adventure where you will conduct science experiments\, marvel at technology demonstrations and meet fascinating critters! Attendees within the West Basin service area will be entered in an opportunity drawing to win a high-efficiency clothes washer and dryer\, an e-bike and gift cards.\n\n\n\nThe first 200 early bird registrants will have access to a free Water Harvest S.T.E.A.M. Adventure Box and an extra entry into our opportunity drawing. Register today! For more information and to view the schedule of events\, visit: www.westbasin.org/waterharvest
X-ALT-DESC;FMTTYPE=text/html:<span style="color: rgb(38\, 38\, 38)\; font-family: -apple-system\, system-ui\, &quot\;Segoe UI&quot\;\, Roboto\, Helvetica\, Arial\, sans-serif\; font-size: 14px\;">Join for S.T.E.A.M. (Science\, Technology\, Engineering and Math) Adventure where you will conduct science experiments\, marvel at technology demonstrations and meet fascinating critters! Attendees within the West Basin service area will be entered in an opportunity drawing to win a high-efficiency clothes washer and dryer\, an e-bike and gift cards.</span><br style="color: rgb(38\, 38\, 38)\; font-family: -apple-system\, system-ui\, &quot\;Segoe UI&quot\;\, Roboto\, Helvetica\, Arial\, sans-serif\; font-size: 14px\;" />\n<br style="color: rgb(38\, 38\, 38)\; font-family: -apple-system\, system-ui\, &quot\;Segoe UI&quot\;\, Roboto\, Helvetica\, Arial\, sans-serif\; font-size: 14px\;" />\n<span style="color: rgb(38\, 38\, 38)\; font-family: -apple-system\, system-ui\, &quot\;Segoe UI&quot\;\, Roboto\, Helvetica\, Arial\, sans-serif\; font-size: 14px\;">The first 200 early bird registrants will have access to a free Water Harvest S.T.E.A.M. Adventure Box and an extra entry into our opportunity drawing. Register today! For more information and to view the schedule of events\, visit: www.westbasin.org/waterharvest</span>
LOCATION:Virtual\, Register here.
UID:e.2438.4674
SEQUENCE:3
DTSTAMP:20260421T224217Z
URL:https://business.hbchamber.net/events/details/water-harvest-s-t-e-a-m-adventure-4674
END:VEVENT

END:VCALENDAR
