BEGIN:VCALENDAR
VERSION:2.0
PRODID:-//ChamberMaster//Event Calendar 2.0//EN
METHOD:PUBLISH
X-PUBLISHED-TTL:P3D
REFRESH-INTERVAL:P3D
CALSCALE:GREGORIAN
BEGIN:VEVENT
DTSTART:20220313T010000Z
DTEND:20220313T050000Z
X-MICROSOFT-CDO-ALLDAYEVENT:FALSE
SUMMARY:Water and Wood Art and Photography Show
DESCRIPTION:Water and Wood is back! Resin's longest-running Art and Photography show featuring artwork united by the theme of water and wood is on for March 12th from 5-9PM. In addition to featuring the work of the South Bay Artist Collective\, this is a community show. We invite all artists of the South Bay to submit pieces to be considered. So much incredible art has been made over these last two\, very emotionally fertile years. This is an opportunity to get out of the house\, connect\, and celebrate life together as a community. And this is a family friendly event - bring your kiddos! There will be youth art on display as well. We'll see you there!
X-ALT-DESC;FMTTYPE=text/html:Water and Wood is back! Resin&#39\;s longest-running Art and Photography show featuring artwork united by the theme of water and wood is on for March 12th from 5-9PM. In addition to featuring the work of the South Bay Artist Collective\, this is a community show. We invite all artists of the South Bay to submit pieces to be considered. So much incredible art has been made over these last two\, very emotionally fertile years. This is an opportunity to get out of the house\, connect\, and celebrate life together as a community. And this is a family friendly event - bring your kiddos! There will be youth art on display as well. We&#39\;ll see you there!
LOCATION:Resin Hermosa 618 Cypress Ave Hermosa Beach\, Ca 90254
UID:e.2438.5165
SEQUENCE:3
DTSTAMP:20260421T110007Z
URL:https://business.hbchamber.net/events/details/water-and-wood-art-and-photography-show-5165
END:VEVENT

END:VCALENDAR
