BEGIN:VCALENDAR
VERSION:2.0
PRODID:-//ChamberMaster//Event Calendar 2.0//EN
METHOD:PUBLISH
X-PUBLISHED-TTL:P3D
REFRESH-INTERVAL:P3D
CALSCALE:GREGORIAN
BEGIN:VEVENT
DTSTART;VALUE=DATE:20220401
DTEND;VALUE=DATE:20220502
TRANSP:TRANSPARENT
X-MICROSOFT-CDO-ALLDAYEVENT:TRUE
SUMMARY:Walk With Sally's 15th Annual Friendship Bowl
DESCRIPTION:WALK WITH SALLY'S FRIENDSHIP BOWL\n\nThe Friendship Bowl is Walk With Sally's annual fundraiser to celebrate our Friendships! Our local families\, now more than ever\, need consistent love\, nurturing\, and support to combat the trauma of facing the dual burden of COVID-19 and cancer. \n\nWhen one person mentors\, two people benefit and our community becomes infinitely stronger.\n\nYou can help us reach our goal of 25 new friendships   that's $125\,000! We need your help so we can help more kids navigating their loved one's cancer journey!
X-ALT-DESC;FMTTYPE=text/html:<h3 style="text-align:center"><span style="color:rgb(199\, 43\, 41)\; font-family:inherit">WALK WITH SALLY&rsquo\;S&nbsp\;FRIENDSHIP BOWL</span></h3>\n\n<p style="text-align:center"><span style="font-family:inherit">The Friendship Bowl is Walk With Sally&rsquo\;s annual fundraiser to celebrate our Friendships! Our local families\, now more than ever\, need consistent love\, nurturing\, and support to combat the trauma of facing the dual burden of COVID-19 and cancer.&nbsp\;</span></p>\n\n<p style="text-align:center"><span style="font-family:inherit">When one person mentors\, two people benefit and our community becomes infinitely stronger.</span></p>\n\n<p style="text-align:center"><span style="font-family:inherit">You can help us reach our goal of 25 new friendships &ndash\; that&rsquo\;s $125\,000! We need your help so we can help more kids navigating their loved one&rsquo\;s cancer journey!</span></p>\n
LOCATION:May 1\, 2022 - Event Day will be held at Bowlero Torrance 21915 South Western Avenue Torrance\, California 90501 (310) 328-3700
UID:e.2438.5166
SEQUENCE:3
DTSTAMP:20260421T093512Z
URL:https://business.hbchamber.net/events/details/walk-with-sally-s-15th-annual-friendship-bowl-5166
END:VEVENT

END:VCALENDAR
