BEGIN:VCALENDAR
VERSION:2.0
PRODID:-//ChamberMaster//Event Calendar 2.0//EN
METHOD:PUBLISH
X-PUBLISHED-TTL:P3D
REFRESH-INTERVAL:P3D
CALSCALE:GREGORIAN
BEGIN:VEVENT
DTSTART:20220217T010000Z
DTEND:20220217T030000Z
X-MICROSOFT-CDO-ALLDAYEVENT:FALSE
SUMMARY:Visiting Winemaker Series- Byron Blatty Wines
DESCRIPTION:Byron Blatty's focus is on limited-edition\, handcrafted wines that feature sustainably farmed\, family-owned vineyards in Los Angeles County. They work with over six vineyards\, including one they farm themselves\, and fifteen different varietals from every corner of the county\, selecting only the most interesting\, and unique expressions of Los Angeles terroir to feature in their carefully crafted wines
X-ALT-DESC;FMTTYPE=text/html:Byron Blatty&#39\;s focus is on limited-edition\, handcrafted wines that feature sustainably farmed\, family-owned vineyards in Los Angeles County. They work with over six vineyards\, including one they farm themselves\, and fifteen different varietals from every corner of the county\, selecting only the most interesting\, and unique expressions of Los Angeles terroir to feature in their carefully crafted wines
LOCATION:Uncorked\, 302 Pier Ave\, Hermosa Beach\, CA 90254
UID:e.2438.5168
SEQUENCE:3
DTSTAMP:20260421T131513Z
URL:https://business.hbchamber.net/events/details/visiting-winemaker-series-byron-blatty-wines-5168
END:VEVENT

END:VCALENDAR
