BEGIN:VCALENDAR
VERSION:2.0
PRODID:-//ChamberMaster//Event Calendar 2.0//EN
METHOD:PUBLISH
X-PUBLISHED-TTL:P3D
REFRESH-INTERVAL:P3D
CALSCALE:GREGORIAN
BEGIN:VEVENT
DTSTART:20240222T230000Z
DTEND:20240223T003000Z
X-MICROSOFT-CDO-ALLDAYEVENT:FALSE
SUMMARY:Virtual Workshop: Accessing Affordable Dementia Care
DESCRIPTION:Join us for an overview of Medi-Cal\, including recent asset changes and the Spousal Impoverishment benefit\, In-Home Supportive Services\, and other Medicaid waiver programs that can support you in caring for your loved one with dementia. Kim Selfon\, Medi-Cal and IHSS Policy Specialist from Bet Tzedek Legal Services\, and Emily Brosius LCSW\, Director of Community Services with Beach Cities Health District\, will lead the presentation\, followed by ample time for questions and answers from attendees. Register here: https://uclahs.zoom.us/meeting/register/tJEscuiuqDMvH9yJPBXM_RgY6zWCP9gYolja#/registration or call (310) 374-3426 Option 1 for additional assistance. Brought to you by the South Bay Dementia Education Consortium.
X-ALT-DESC;FMTTYPE=text/html:Join us for an overview of Medi-Cal\, including recent asset changes and the Spousal Impoverishment benefit\, In-Home Supportive Services\, and other Medicaid waiver programs that can support you in caring for your loved one with dementia. Kim Selfon\, Medi-Cal and IHSS Policy Specialist from Bet Tzedek Legal Services\, and Emily Brosius LCSW\, Director of Community Services with Beach Cities Health District\, will lead the presentation\, followed by ample time for questions and answers from attendees. Register here: https://uclahs.zoom.us/meeting/register/tJEscuiuqDMvH9yJPBXM_RgY6zWCP9gYolja#/registration or call (310) 374-3426 Option 1 for additional assistance. Brought to you by the South Bay Dementia Education Consortium.
LOCATION:Virtual REGISTER HERE: https://uclahs.zoom.us/meeting/register/tJEscuiuqDMvH9yJPBXM_RgY6zWCP9gYolja#/registration
UID:e.2438.9314
SEQUENCE:3
DTSTAMP:20260419T131412Z
URL:https://business.hbchamber.net/events/details/virtual-workshop-accessing-affordable-dementia-care-9314
END:VEVENT

END:VCALENDAR
