BEGIN:VCALENDAR
VERSION:2.0
PRODID:-//ChamberMaster//Event Calendar 2.0//EN
METHOD:PUBLISH
X-PUBLISHED-TTL:P3D
REFRESH-INTERVAL:P3D
CALSCALE:GREGORIAN
BEGIN:VEVENT
DTSTART:20241203T180000Z
DTEND:20241203T190000Z
X-MICROSOFT-CDO-ALLDAYEVENT:FALSE
SUMMARY:Virtual Social Hour with Beach Cities Health District Care Manager\, Charlotte Barnett?
DESCRIPTION:If you have a question regarding community resources\, want to learn more about Beach Cities Health District or share and learn ways to keep busy\, please join us! These meetings are for all\, a place to connect and feel heard.  \n\nwww.bchd.org/classes-workshops
X-ALT-DESC;FMTTYPE=text/html:If you have a question regarding community resources\, want to learn more about Beach Cities Health District or share and learn ways to keep busy\, please join us! These meetings are for all\, a place to connect and feel heard. &nbsp\;<br />\n<a href="http://www.bchd.org/classes-workshops">www.bchd.org/classes-workshops</a>
LOCATION:VIRTUAL
UID:e.2438.11020
SEQUENCE:3
DTSTAMP:20260422T173930Z
URL:https://business.hbchamber.net/events/details/virtual-social-hour-with-beach-cities-health-district-care-manager-charlotte-barnett-11020
END:VEVENT

END:VCALENDAR
