BEGIN:VCALENDAR
VERSION:2.0
PRODID:-//ChamberMaster//Event Calendar 2.0//EN
METHOD:PUBLISH
X-PUBLISHED-TTL:P3D
REFRESH-INTERVAL:P3D
CALSCALE:GREGORIAN
BEGIN:VEVENT
DTSTART:20250520T170000Z
DTEND:20250520T180000Z
X-MICROSOFT-CDO-ALLDAYEVENT:FALSE
SUMMARY:Virtual Social Hour with BCHD Care Managers
DESCRIPTION:If you have a question regarding community resources or want to learn more about Beach Cities Health District\, please join us! If you want to share ways you are keeping busy or are looking for advice on ways to keep busy\, please join us! These meetings are for all\, a place to connect and feel heard. \n\n\n\nZoom Link: https://bchd-org.zoom.us/j/87651635014
X-ALT-DESC;FMTTYPE=text/html:If you have a question regarding community resources or want to learn more about Beach Cities Health District\, please join us! If you want to share ways you are keeping busy or are looking for advice on ways to keep busy\, please join us! These meetings are for all\, a place to connect and feel heard.&nbsp\;<br />\n<br />\nZoom Link: <a href="https://bchd-org.zoom.us/j/87651635014">https://bchd-org.zoom.us/j/87651635014</a>
LOCATION:
UID:e.2438.11531
SEQUENCE:3
DTSTAMP:20260422T224634Z
URL:https://business.hbchamber.net/events/details/virtual-social-hour-with-bchd-care-managers-11531
END:VEVENT

END:VCALENDAR
