BEGIN:VCALENDAR
VERSION:2.0
PRODID:-//ChamberMaster//Event Calendar 2.0//EN
METHOD:PUBLISH
X-PUBLISHED-TTL:P3D
REFRESH-INTERVAL:P3D
CALSCALE:GREGORIAN
BEGIN:VEVENT
DTSTART:20250604T230000Z
DTEND:20250604T233000Z
X-MICROSOFT-CDO-ALLDAYEVENT:FALSE
SUMMARY:Virtual Mindfulness Drop-in
DESCRIPTION:Take 30 minutes to downshift and practice mindfulness techniques. Facilitated by an instructor from the Center for Health and Fitness.
X-ALT-DESC;FMTTYPE=text/html:Take 30 minutes to downshift and practice mindfulness techniques. Facilitated by an instructor from the Center for Health and Fitness.&nbsp\;
LOCATION:VIRTUAL
UID:e.2438.12410
SEQUENCE:3
DTSTAMP:20260423T003731Z
URL:https://business.hbchamber.net/events/details/virtual-mindfulness-drop-in-12410
END:VEVENT

END:VCALENDAR
