BEGIN:VCALENDAR
VERSION:2.0
PRODID:-//ChamberMaster//Event Calendar 2.0//EN
METHOD:PUBLISH
X-PUBLISHED-TTL:P3D
REFRESH-INTERVAL:P3D
CALSCALE:GREGORIAN
BEGIN:VEVENT
DTSTART:20241107T000000Z
DTEND:20241107T003000Z
X-MICROSOFT-CDO-ALLDAYEVENT:FALSE
SUMMARY:Virtual Mindfulness Drop-in
DESCRIPTION:
X-ALT-DESC;FMTTYPE=text/html:
LOCATION:VIRTUAL
UID:e.2438.10786
SEQUENCE:3
DTSTAMP:20260422T192144Z
URL:https://business.hbchamber.net/events/details/virtual-mindfulness-drop-in-10786
END:VEVENT

END:VCALENDAR
