BEGIN:VCALENDAR
VERSION:2.0
PRODID:-//ChamberMaster//Event Calendar 2.0//EN
METHOD:PUBLISH
X-PUBLISHED-TTL:P3D
REFRESH-INTERVAL:P3D
CALSCALE:GREGORIAN
BEGIN:VEVENT
DTSTART:20250513T193000Z
DTEND:20250513T200000Z
X-MICROSOFT-CDO-ALLDAYEVENT:FALSE
SUMMARY:Virtual Happiness Chat
DESCRIPTION:Support your well-being with casual discussions focused on connection and resilience. Attend one or all chats! For more information\, visit www.bchd.org/series.
X-ALT-DESC;FMTTYPE=text/html:Support your well-being with casual discussions focused on connection and resilience. Attend one or all chats! For more information\, visit <a href="http://www.bchd.org/series">www.bchd.org/series</a>.&nbsp\;
LOCATION:Virtual
UID:e.2438.11537
SEQUENCE:3
DTSTAMP:20260422T224024Z
URL:https://business.hbchamber.net/events/details/virtual-happiness-chat-11537
END:VEVENT

END:VCALENDAR
