BEGIN:VCALENDAR
VERSION:2.0
PRODID:-//ChamberMaster//Event Calendar 2.0//EN
METHOD:PUBLISH
X-PUBLISHED-TTL:P3D
REFRESH-INTERVAL:P3D
CALSCALE:GREGORIAN
BEGIN:VEVENT
DTSTART:20241210T203000Z
DTEND:20241210T210000Z
X-MICROSOFT-CDO-ALLDAYEVENT:FALSE
SUMMARY:Virtual Happiness Chat?
DESCRIPTION:Support your well-being with casual discussions focused on connection and resilience.  \n\nwww.bchd.org/series
X-ALT-DESC;FMTTYPE=text/html:Support your well-being with casual discussions focused on connection and resilience. &nbsp\;<br />\n<a href="http://www.bchd.org/series">www.bchd.org/series</a> &nbsp\;
LOCATION:VIRTUAL
UID:e.2438.11026
SEQUENCE:3
DTSTAMP:20260422T181409Z
URL:https://business.hbchamber.net/events/details/virtual-happiness-chat-11026
END:VEVENT

END:VCALENDAR
