BEGIN:VCALENDAR
VERSION:2.0
PRODID:-//ChamberMaster//Event Calendar 2.0//EN
METHOD:PUBLISH
X-PUBLISHED-TTL:P3D
REFRESH-INTERVAL:P3D
CALSCALE:GREGORIAN
BEGIN:VEVENT
DTSTART:20250513T170000Z
DTEND:20250513T180000Z
X-MICROSOFT-CDO-ALLDAYEVENT:FALSE
SUMMARY:Virtual Families Connected Parent Chat
DESCRIPTION:The Families Connected Parent Chat is a free monthly support group open to all South Bay parents and caregivers. Provided through a partnership between BCHD\, South Bay Families Connected and Thelma McMillen Center\, the Parent Chat offers its participants a confidential and supportive space to share their parenting challenges and successes. Please note that the Parent Chat is not a therapeutic program\, but rather a peer-to-peer support group with educational guidance from a mental health professional. For more information and the link to Zoom\, please visit www.southbayfamiliesconnected.org/parent-chat.
X-ALT-DESC;FMTTYPE=text/html:The Families Connected Parent Chat is a free monthly support group open to all South Bay parents and caregivers. Provided through a partnership between BCHD\, South Bay Families Connected and Thelma McMillen Center\, the Parent Chat offers its participants a confidential and supportive space to share their parenting challenges and successes. Please note that the Parent Chat is not a therapeutic program\, but rather a peer-to-peer support group with educational guidance from a mental health professional. For more information and the link to Zoom\, please visit <a href="http://www.southbayfamiliesconnected.org/parent-chat">www.southbayfamiliesconnected.org/parent-chat</a>.&nbsp\;
LOCATION:Virtual via Zoom. www.southbayfamiliesconnected.org/parent-chat.
UID:e.2438.11536
SEQUENCE:3
DTSTAMP:20260422T224635Z
URL:https://business.hbchamber.net/events/details/virtual-families-connected-parent-chat-11536
END:VEVENT

END:VCALENDAR
