BEGIN:VCALENDAR
VERSION:2.0
PRODID:-//ChamberMaster//Event Calendar 2.0//EN
METHOD:PUBLISH
X-PUBLISHED-TTL:P3D
REFRESH-INTERVAL:P3D
CALSCALE:GREGORIAN
BEGIN:VEVENT
DTSTART:20241210T180000Z
DTEND:20241210T190000Z
X-MICROSOFT-CDO-ALLDAYEVENT:FALSE
SUMMARY:Virtual Families Connected Parent Chat?
DESCRIPTION:BCHD\, South Bay Families Connected and the Thelma McMillen Center have teamed up for the Families Connected Parent Chat\, which offers participants a confidential and supportive space to share their parenting challenges and successes.  \n\nhttps://www.southbayfamiliesconnected.org/parent-chat
X-ALT-DESC;FMTTYPE=text/html:BCHD\, South Bay Families Connected and the Thelma McMillen Center have teamed up for the Families Connected Parent Chat\, which offers participants a confidential and supportive space to share their parenting challenges and successes. &nbsp\;<br />\n<a href="https://www.southbayfamiliesconnected.org/parent-chat">https://www.southbayfamiliesconnected.org/parent-chat</a>
LOCATION:VIRTUAL
UID:e.2438.11025
SEQUENCE:3
DTSTAMP:20260422T173105Z
URL:https://business.hbchamber.net/events/details/virtual-families-connected-parent-chat-11025
END:VEVENT

END:VCALENDAR
