BEGIN:VCALENDAR
VERSION:2.0
PRODID:-//ChamberMaster//Event Calendar 2.0//EN
METHOD:PUBLISH
X-PUBLISHED-TTL:P3D
REFRESH-INTERVAL:P3D
CALSCALE:GREGORIAN
BEGIN:VEVENT
DTSTART:20241112T180000Z
DTEND:20241112T190000Z
X-MICROSOFT-CDO-ALLDAYEVENT:FALSE
SUMMARY:Virtual Families Connected Parent Chat
DESCRIPTION:
X-ALT-DESC;FMTTYPE=text/html:
LOCATION:VIRTUAL
UID:e.2438.10787
SEQUENCE:3
DTSTAMP:20260422T192344Z
URL:https://business.hbchamber.net/events/details/virtual-families-connected-parent-chat-10787
END:VEVENT

END:VCALENDAR
