BEGIN:VCALENDAR
VERSION:2.0
PRODID:-//ChamberMaster//Event Calendar 2.0//EN
METHOD:PUBLISH
X-PUBLISHED-TTL:P3D
REFRESH-INTERVAL:P3D
CALSCALE:GREGORIAN
BEGIN:VEVENT
DTSTART:20241111T183000Z
DTEND:20241111T200000Z
X-MICROSOFT-CDO-ALLDAYEVENT:FALSE
SUMMARY:Veterans Day 30th Anniversary Wreath Laying Ceremony and Veterans Are Timeless Presentation
DESCRIPTION:The City of Hermosa Beach honors the sacrifice of those who served our Country with the Veterans Day Wreath Laying Ceremony\, and Veterans are Timeless Presentation at the Veterans Memorial on the East Lawn of the Community Center\, 710 Pier Avenue. A reception in the Community Theatre's lobby will follow the ceremony.\n\n\n\nFor additional event information\, visit www.hermosabeach.gov/veterans\, or contact the Community Resources Department at (310) 318-0280.
X-ALT-DESC;FMTTYPE=text/html:The City of Hermosa Beach honors the sacrifice of those who served our Country with the Veterans Day Wreath Laying Ceremony\, and Veterans are Timeless Presentation at the Veterans Memorial on the East Lawn of the Community Center\, 710 Pier Avenue. A reception in the Community Theatre&rsquo\;s lobby will follow the ceremony.<br />\n<br />\nFor additional event information\, visit <a href="http://www.hermosabeach.gov/veterans">www.hermosabeach.gov/veterans</a>\, or contact the Community Resources Department at (310) 318-0280.
LOCATION:Veterans Memorial on the East Lawn of the Community Center 710 Pier Avenue Hermosa Beach\, CA 90254
UID:e.2438.10637
SEQUENCE:3
DTSTAMP:20260422T192905Z
URL:https://business.hbchamber.net/events/details/veterans-day-30th-anniversary-wreath-laying-ceremony-and-veterans-are-timeless-presentation-10637
END:VEVENT

END:VCALENDAR
