BEGIN:VCALENDAR
VERSION:2.0
PRODID:-//ChamberMaster//Event Calendar 2.0//EN
METHOD:PUBLISH
X-PUBLISHED-TTL:P3D
REFRESH-INTERVAL:P3D
CALSCALE:GREGORIAN
BEGIN:VEVENT
DTSTART:20211111T210000Z
DTEND:20211112T000000Z
X-MICROSOFT-CDO-ALLDAYEVENT:FALSE
SUMMARY:Veteran's Day Tribute
DESCRIPTION:Veterans Day tribute to honor the dedicated members of the United States Armed Forces. The service will be followed by a BBQ picnic open to the public and sponsored by the Redondo Beach Elks. The BBQ is free to all veterans and members of the military services\, Fire personnel\, and Police Officers.
X-ALT-DESC;FMTTYPE=text/html:Veterans Day tribute to honor the dedicated members of the United States Armed Forces. The service will be followed by a BBQ picnic open to the public and sponsored by the Redondo Beach Elks. The BBQ is free to all veterans and members of the military services\, Fire personnel\, and Police Officers.&nbsp\;
LOCATION:Redondo Beach Veterans Memorial
UID:e.2438.4691
SEQUENCE:3
DTSTAMP:20260421T202838Z
URL:https://business.hbchamber.net/events/details/veteran-s-day-tribute-4691
END:VEVENT

END:VCALENDAR
