BEGIN:VCALENDAR
VERSION:2.0
PRODID:-//ChamberMaster//Event Calendar 2.0//EN
METHOD:PUBLISH
X-PUBLISHED-TTL:P3D
REFRESH-INTERVAL:P3D
CALSCALE:GREGORIAN
BEGIN:VEVENT
DTSTART:20240213T200000Z
DTEND:20240218T050000Z
X-MICROSOFT-CDO-ALLDAYEVENT:FALSE
SUMMARY:Valentines Wine and Chocolate Pairing
DESCRIPTION:Stop by for a little Valentine's love- We'll be featuring flights specially designed with love for your Valentine's Day celebration! Artisan chocolates from Stoked Chocolates have been chosen to pair specifically with wines and bubbly to make this Valentine's Day a memorable one.
X-ALT-DESC;FMTTYPE=text/html:Stop by for a little Valentine&#39\;s love- We&#39\;ll be featuring flights specially designed with love for your Valentine&#39\;s Day celebration! Artisan chocolates from Stoked Chocolates have been chosen to pair specifically with wines and bubbly to make this Valentine&#39\;s Day a memorable one.
LOCATION:Uncorked Hermosa\, 302 Pier Ave
UID:e.2438.9360
SEQUENCE:3
DTSTAMP:20260419T131412Z
URL:https://business.hbchamber.net/events/details/valentines-wine-and-chocolate-pairing-9360
END:VEVENT

END:VCALENDAR
