BEGIN:VCALENDAR
VERSION:2.0
PRODID:-//ChamberMaster//Event Calendar 2.0//EN
METHOD:PUBLISH
X-PUBLISHED-TTL:P3D
REFRESH-INTERVAL:P3D
CALSCALE:GREGORIAN
BEGIN:VEVENT
DTSTART:20220211T200000Z
DTEND:20220215T040000Z
X-MICROSOFT-CDO-ALLDAYEVENT:FALSE
SUMMARY:Valentines- Premium Bubbly Flights & Music All Weekend
DESCRIPTION:Wine + Love! Check our website for hours of operation and dates and times of music Friday-Sunday. Monday we'll be featuring live instrumental music on our terrace from 5-7 to set the mood for your premium bubbly tasting on Valentine's Day.
X-ALT-DESC;FMTTYPE=text/html:Wine + Love! Check our website for hours of operation and dates and times of music Friday-Sunday. Monday we&#39\;ll be featuring live instrumental music on our terrace from 5-7 to set the mood for your premium bubbly tasting on Valentine&#39\;s Day.
LOCATION:Uncorked\, 302 Pier Ave\, Hermosa Beach\, CA
UID:e.2438.5167
SEQUENCE:3
DTSTAMP:20260421T134112Z
URL:https://business.hbchamber.net/events/details/valentines-premium-bubbly-flights-music-all-weekend-5167
END:VEVENT

END:VCALENDAR
