BEGIN:VCALENDAR
VERSION:2.0
PRODID:-//ChamberMaster//Event Calendar 2.0//EN
METHOD:PUBLISH
X-PUBLISHED-TTL:P3D
REFRESH-INTERVAL:P3D
CALSCALE:GREGORIAN
BEGIN:VEVENT
DTSTART:20250426T160000Z
DTEND:20250427T233000Z
X-MICROSOFT-CDO-ALLDAYEVENT:FALSE
SUMMARY:Vajrasattva Purification Retreat
DESCRIPTION:Through the power of recitation and visualization\, and through receiving Vajrasattva's blessings\, we will gradually purify our mind and our actions. In this way we can improve our qualities as a human being\, and eventually become a special holy being. ~ Venerable Geshe Kelsang Gyatso Rinpoche\, teachings on Vajrasattva\, 1993\n\nThis retreat is a powerful method for purifying our negative karma. By deepening our reliance on Buddha Vajrasattva in this retreat\, we will cleanse our mind of delusions\, negativities\, and obstacles that both cause us suffering and hold us back from reaching our full inner potential.\n\nThis retreat is done in conjunction with Offering to the Spiritual Guide or The Hundreds of Deities of the Joyful Land According to Highest Yoga Tantra. Each session consists of time to study\, meditate\, and do some prayers. Study materials are provided for the unguided sessions\, and advice is always on hand.\n\nFree event. Everyone welcome.
X-ALT-DESC;FMTTYPE=text/html:<p><em>Through the power of recitation and visualization\, and through receiving Vajrasattva&rsquo\;s blessings\, we will gradually purify our mind and our actions. In this way we can improve our qualities as a human being\, and eventually become a special holy being.</em>&nbsp\;~ Venerable Geshe Kelsang Gyatso Rinpoche\, teachings on Vajrasattva\, 1993</p>\n\n<p>This retreat is a powerful method for purifying our negative karma. By deepening our reliance on Buddha Vajrasattva in this retreat\, we will cleanse our mind of delusions\, negativities\, and obstacles that both cause us suffering and hold us back from reaching our full inner potential.</p>\n\n<p>This retreat is done in conjunction with&nbsp\;<em>Offering to the Spiritual Guide</em>&nbsp\;or&nbsp\;<em>The Hundreds of Deities of the Joyful Land According to Highest Yoga Tantra</em>. Each session consists of time to study\, meditate\, and do some prayers. Study materials are provided for the unguided sessions\, and advice is always on hand.</p>\n\n<p>Free event. Everyone welcome.&nbsp\;</p>\n
LOCATION:Mahamudra Kadampa Meditation Center 500 6th St Hermosa Beach\, CA 90254
UID:e.2438.11478
SEQUENCE:3
DTSTAMP:20260422T210203Z
URL:https://business.hbchamber.net/events/details/vajrasattva-purification-retreat-11478
END:VEVENT

END:VCALENDAR
