BEGIN:VCALENDAR
VERSION:2.0
PRODID:-//ChamberMaster//Event Calendar 2.0//EN
METHOD:PUBLISH
X-PUBLISHED-TTL:P3D
REFRESH-INTERVAL:P3D
CALSCALE:GREGORIAN
BEGIN:VEVENT
DTSTART:20220226T010000Z
DTEND:20220226T030000Z
X-MICROSOFT-CDO-ALLDAYEVENT:FALSE
SUMMARY:Uncorked Winemaker Series- Diniz Cellars
DESCRIPTION:Sandra Gomes Rochas and Diniz Cellars is a California importer whose sole focus is sourcing hand-crafted\, high-quality\, wines from Portugal's legendary wine regions. Sandra will be pouring a flight of hand-selected Portuguese wines with complexity\, and styles diverse enough to satisfy even the most discerning palates
X-ALT-DESC;FMTTYPE=text/html:Sandra Gomes Rochas and Diniz Cellars is a California importer whose sole focus is sourcing hand-crafted\, high-quality\, wines from Portugal&#39\;s legendary wine regions. Sandra will be pouring a flight of hand-selected Portuguese wines with complexity\, and styles diverse enough to satisfy even the most discerning palates
LOCATION:Uncorked\, 302 Pier Ave\, Hermosa Beach
UID:e.2438.5271
SEQUENCE:3
DTSTAMP:20260421T131225Z
URL:https://business.hbchamber.net/events/details/uncorked-winemaker-series-diniz-cellars-5271
END:VEVENT

END:VCALENDAR
