BEGIN:VCALENDAR
VERSION:2.0
PRODID:-//ChamberMaster//Event Calendar 2.0//EN
METHOD:PUBLISH
X-PUBLISHED-TTL:P3D
REFRESH-INTERVAL:P3D
CALSCALE:GREGORIAN
BEGIN:VEVENT
DTSTART:20240224T180000Z
DTEND:20240225T020000Z
X-MICROSOFT-CDO-ALLDAYEVENT:FALSE
SUMMARY:Uncorked Wine Adventures- Malibu
DESCRIPTION:Tour the Malibu Wine Country in style! Meet us at Uncorked Hermosa and jump in our luxury coach for a drive up the coast\; first stop Cornell winery for wine tasting and lunch. 2nd stop is Cielo Farms- wine-tasting with a beautiful view. Finally\, we'll stop at Rosenthal (time permitting)\, where the party never ends (tasting will be on your own)\, before returning to Uncorked. You may cancel your reservation at no charge until 7 days prior to the event.
X-ALT-DESC;FMTTYPE=text/html:Tour the Malibu Wine Country in style! Meet us at Uncorked Hermosa and jump in our luxury coach for a drive up the coast\; first stop Cornell winery for wine tasting and lunch. 2nd stop is Cielo Farms- wine-tasting with a beautiful view. Finally\, we&#39\;ll stop at Rosenthal (time permitting)\, where the party never ends (tasting will be on your own)\, before returning to Uncorked. You may cancel your reservation at no charge until 7 days prior to the event.
LOCATION:Uncorked Hermosa
UID:e.2438.9375
SEQUENCE:3
DTSTAMP:20260419T131506Z
URL:https://business.hbchamber.net/events/details/uncorked-wine-adventures-malibu-9375
END:VEVENT

END:VCALENDAR
