BEGIN:VCALENDAR
VERSION:2.0
PRODID:-//ChamberMaster//Event Calendar 2.0//EN
METHOD:PUBLISH
X-PUBLISHED-TTL:P3D
REFRESH-INTERVAL:P3D
CALSCALE:GREGORIAN
BEGIN:VEVENT
DTSTART:20241110T230000Z
DTEND:20241111T020000Z
X-MICROSOFT-CDO-ALLDAYEVENT:FALSE
SUMMARY:Uncorked 13th Anniversary Parking Lot Party
DESCRIPTION:Savor an extraordinary afternoon of fine wines\, culinary delights\, and live music while getting a head start on your holiday shopping- sample over 75 premium wines from acclaimed vintners worldwide\, and take 20% Off any purchases.  \n\n\n\nDon't miss this celebrated annual event. Reserve your ticket today and prepare for an afternoon of premium wines\, delectable tastings\, and good friends.
X-ALT-DESC;FMTTYPE=text/html:Savor an extraordinary afternoon of fine wines\, culinary delights\, and live music while getting a head start on your holiday shopping- sample over 75 premium wines from acclaimed vintners worldwide\, and take 20% Off any purchases.&nbsp\;&nbsp\;<br />\n<br />\nDon&#39\;t miss this celebrated annual event. Reserve your ticket today and prepare for an afternoon of premium wines\, delectable tastings\, and good friends.&nbsp\;
LOCATION:Uncorked Hermosa Beach 302 Pier Ave Hermosa Beach\, CA 90254
UID:e.2438.10724
SEQUENCE:3
DTSTAMP:20260422T192547Z
URL:https://business.hbchamber.net/events/details/uncorked-13th-anniversary-parking-lot-party-10724
END:VEVENT

END:VCALENDAR
