BEGIN:VCALENDAR
VERSION:2.0
PRODID:-//ChamberMaster//Event Calendar 2.0//EN
METHOD:PUBLISH
X-PUBLISHED-TTL:P3D
REFRESH-INTERVAL:P3D
CALSCALE:GREGORIAN
BEGIN:VEVENT
DTSTART:20241121T020000Z
DTEND:20241121T050000Z
X-MICROSOFT-CDO-ALLDAYEVENT:FALSE
SUMMARY:Ugly Sweater Networking Mixer
DESCRIPTION:Festive Food & Drinks\, Raffle Giveaways\, Music\, Networking\, Clothing & Canned Goods Donations Box\, Ugly Sweater Contest\, Karaoke
X-ALT-DESC;FMTTYPE=text/html:Festive Food &amp\; Drinks\, Raffle Giveaways\, Music\, Networking\, Clothing &amp\; Canned Goods Donations Box\, Ugly Sweater Contest\, Karaoke
LOCATION:16921 S Western Ave\, Suite 103A Gardena\, CA 90247
UID:e.2438.10771
SEQUENCE:3
DTSTAMP:20260422T192240Z
URL:https://business.hbchamber.net/events/details/ugly-sweater-networking-mixer-10771
END:VEVENT

END:VCALENDAR
