BEGIN:VCALENDAR
VERSION:2.0
PRODID:-//ChamberMaster//Event Calendar 2.0//EN
METHOD:PUBLISH
X-PUBLISHED-TTL:P3D
REFRESH-INTERVAL:P3D
CALSCALE:GREGORIAN
BEGIN:VEVENT
DTSTART:20240216T030000Z
DTEND:20240216T070000Z
X-MICROSOFT-CDO-ALLDAYEVENT:FALSE
SUMMARY:Totally ’80s Galentine’s Party
DESCRIPTION:HBEF is bringing it back to the '80s \n\nbecause moms just wanna have fun! \n\n\n\nSave the date February 15th for the RADDEST Moms' Night Out ever! Whether you love rock 'n roll or are into doing the electric boogaloo or you simply just wanna dance with somebody\, we've got you covered.\n\n\n\nAnd the most tubular part? Proceeds will benefit HBEF that's right\, it's time to get ill for the kids. Full details to come\, but start breaking out those leg warmers because we are about to have the time of our life.
X-ALT-DESC;FMTTYPE=text/html:HBEF is bringing it back to the &rsquo\;80s&hellip\;<br />\nbecause moms just wanna have fun!&nbsp\;<br />\n<br />\nSave the date&mdash\;February 15th&mdash\;for the RADDEST Moms&rsquo\; Night Out ever! Whether you love rock &rsquo\;n roll or are into doing the electric boogaloo or you simply just wanna dance with somebody\, we&rsquo\;ve got you covered.<br />\n<br />\nAnd the most tubular part? Proceeds will benefit HBEF&mdash\;that&rsquo\;s right\, it&rsquo\;s time to get ill for the kids. Full details to come\, but start breaking out those leg warmers because we are about to have the time of our life.
LOCATION:Saint Rocke in Hermosa Beach 142 Pacific Coast Hwy\, Hermosa Beach\, CA 90254
UID:e.2438.9228
SEQUENCE:3
DTSTAMP:20260419T131525Z
URL:https://business.hbchamber.net/events/details/totally-80s-galentine-s-party-9228
END:VEVENT

END:VCALENDAR
