BEGIN:VCALENDAR
VERSION:2.0
PRODID:-//ChamberMaster//Event Calendar 2.0//EN
METHOD:PUBLISH
X-PUBLISHED-TTL:P3D
REFRESH-INTERVAL:P3D
CALSCALE:GREGORIAN
BEGIN:VEVENT
DTSTART:20240321T000000Z
DTEND:20240321T023000Z
X-MICROSOFT-CDO-ALLDAYEVENT:FALSE
SUMMARY:Tips To Get The Most Out Of Business Networking Events
DESCRIPTION:Get ready for an exciting evening of collaboration as we present "Tips To Get The Most Out Of Business Networking Events\," brought to you through a powerful partnership between Local Anchor\, South Bay Credit Union (SBCU)\, and Unita. \n\nJoin us for an engaging discussion on optimizing your impact at local business networking events. This event offers valuable insights on maximizing your networking experience\, with a lively panel discussion\, interactive Q&A\, and networking opportunities. Our esteemed panel includes representatives from local Chambers of Commerce.\n\n\n\n \n\nProgram:\n\n5pm | Networking\, Wine\, & Lite Bites \n\n5:30pm | Panel Discussion \n\n6:30 - 7:30pm | Networking
X-ALT-DESC;FMTTYPE=text/html:<p dir="ltr" style="caret-color: rgb(34\, 34\, 34)\; color: rgb(34\, 34\, 34)\; font-family: Arial\, Helvetica\, sans-serif\; line-height: 1.38\; margin-top: 12pt\; margin-bottom: 12pt\;"><font style="font-size: 15px\;"><span style="font-variant-ligatures: normal\; font-variant-east-asian: normal\; vertical-align: baseline\; white-space: pre-wrap\;">Get ready for an exciting evening of collaboration as we present &quot\;Tips To Get The Most Out Of Business Networking Events\,&quot\; brought to you through a powerful partnership between Local Anchor\,</span><a data-saferedirecturl="https://www.google.com/url?q=https://localanchor.com/local-anchor-joins-forces-with-south-bay-credit-union&amp\;source=gmail&amp\;ust=1709610029690000&amp\;usg=AOvVaw2w87lmP7tjWfQL8rbKqG2D" href="https://localanchor.com/local-anchor-joins-forces-with-south-bay-credit-union" style="color: rgb(17\, 85\, 204)\; text-decoration: none\;" target="_blank"><span style="color: rgb(0\, 0\, 0)\; font-variant-ligatures: normal\; font-variant-east-asian: normal\; vertical-align: baseline\; white-space: pre-wrap\;"> </span><span style="font-variant-ligatures: normal\; font-variant-east-asian: normal\; text-decoration: underline\; text-decoration-skip-ink: none\; vertical-align: baseline\; white-space: pre-wrap\;">South Bay Credit Union (SBCU)</span></a><span style="font-variant-ligatures: normal\; font-variant-east-asian: normal\; vertical-align: baseline\; white-space: pre-wrap\;">\, and Unita.&nbsp\;</span></font></p>\n\n<p dir="ltr" style="caret-color: rgb(34\, 34\, 34)\; color: rgb(34\, 34\, 34)\; font-family: Arial\, Helvetica\, sans-serif\; line-height: 1.38\; margin-top: 12pt\; margin-bottom: 12pt\;"><span style="font-variant-ligatures: normal\; font-variant-east-asian: normal\; vertical-align: baseline\; white-space: pre-wrap\;">Join us for an engaging discussion on optimizing your impact at local business networking events. This event offers valuable insights on maximizing your networking experience\, with a lively panel discussion\, interactive Q&amp\;A\, and networking opportunities. Our esteemed panel includes representatives from local Chambers of Commerce.</span><br />\n<br />\n&nbsp\;</p>\n\n<p dir="ltr" style="caret-color: rgb(34\, 34\, 34)\; color: rgb(34\, 34\, 34)\; font-family: Arial\, Helvetica\, sans-serif\; line-height: 1.38\; margin-top: 12pt\; margin-bottom: 12pt\;"><span style="font-size: 11pt\; font-family: Arial\, sans-serif\; font-variant-ligatures: normal\; font-variant-east-asian: normal\; vertical-align: baseline\; white-space: pre-wrap\;">Program:</span></p>\n\n<p dir="ltr" style="caret-color: rgb(34\, 34\, 34)\; color: rgb(34\, 34\, 34)\; font-family: Arial\, Helvetica\, sans-serif\; line-height: 1.38\; margin-top: 12pt\; margin-bottom: 12pt\;"><span style="font-size: 11pt\; font-family: Arial\, sans-serif\; font-variant-ligatures: normal\; font-variant-east-asian: normal\; vertical-align: baseline\; white-space: pre-wrap\;">5pm | Networking\, Wine\, &amp\; Lite Bites&nbsp\;</span></p>\n\n<p dir="ltr" style="caret-color: rgb(34\, 34\, 34)\; color: rgb(34\, 34\, 34)\; font-family: Arial\, Helvetica\, sans-serif\; line-height: 1.38\; margin-top: 12pt\; margin-bottom: 12pt\;"><span style="font-size: 11pt\; font-family: Arial\, sans-serif\; font-variant-ligatures: normal\; font-variant-east-asian: normal\; vertical-align: baseline\; white-space: pre-wrap\;">5:30pm | Panel Discussion&nbsp\;</span></p>\n\n<p dir="ltr" style="caret-color: rgb(34\, 34\, 34)\; color: rgb(34\, 34\, 34)\; font-family: Arial\, Helvetica\, sans-serif\; line-height: 1.38\; margin-top: 12pt\; margin-bottom: 12pt\;"><span style="font-size: 11pt\; font-family: Arial\, sans-serif\; font-variant-ligatures: normal\; font-variant-east-asian: normal\; vertical-align: baseline\; white-space: pre-wrap\;">6:30 - 7:30pm | Networking&nbsp\;</span></p>\n
LOCATION:Unita 516 North Sepulveda Blvd Manhattan Beach\, CA 90266
UID:e.2438.9387
SEQUENCE:3
DTSTAMP:20260419T150052Z
URL:https://business.hbchamber.net/events/details/tips-to-get-the-most-out-of-business-networking-events-9387
END:VEVENT

END:VCALENDAR
