BEGIN:VCALENDAR
VERSION:2.0
PRODID:-//ChamberMaster//Event Calendar 2.0//EN
METHOD:PUBLISH
X-PUBLISHED-TTL:P3D
REFRESH-INTERVAL:P3D
CALSCALE:GREGORIAN
BEGIN:VEVENT
DTSTART:20240324T140000Z
DTEND:20240324T210000Z
X-MICROSOFT-CDO-ALLDAYEVENT:FALSE
SUMMARY:Tides of Support South Bay: Spring Cleaning Community Garage Sale
DESCRIPTION:Hi Neighbor!\n\n\n\nWe're excited to announce a first annual Tides of Support\, Spring Cleaning Community Garage Sale for South Hermosa Beach residents. You can register here and we will personally cover the cost for your residential permit required by the city to hold a garage sale.\n\n\n\nIn return\, we ask and encourage participating residents to give an optional 10% donation from the proceeds of their sale to the Hermosa Beach Chamber Foundation. This local non-profit hosts several community events throughout the year including St. Patrick's Day Parade\, the Holiday Tree Lighting Ceremony and Beach Concerts and this can be our way of all giving back together!\n\n\n\nLet's come together and Spring into the new season by cleaning out our spaces and giving back to the community.
X-ALT-DESC;FMTTYPE=text/html:Hi Neighbor!<br />\n<br />\nWe&#39\;re excited to announce a first annual Tides of Support\, Spring Cleaning Community Garage Sale for South Hermosa Beach residents. <a href="https://www.noellerichards.com/community-garage-sale">You can register here</a> and we will personally cover the cost for your residential permit required by the city to hold a garage sale.<br />\n<br />\nIn return\, we ask and encourage participating residents to give an optional 10% donation from the proceeds of their sale to the Hermosa Beach Chamber Foundation. This local non-profit hosts several community events throughout the year including St. Patrick&#39\;s Day Parade\, the Holiday Tree Lighting Ceremony and Beach Concerts and this can be our way of all giving back together!<br />\n<br />\nLet&#39\;s come together and Spring into the new season by cleaning out our spaces and giving back to the community.
LOCATION:South Hermosa Beach
UID:e.2438.9380
SEQUENCE:3
DTSTAMP:20260419T150052Z
URL:https://business.hbchamber.net/events/details/tides-of-support-south-bay-spring-cleaning-community-garage-sale-9380
END:VEVENT

END:VCALENDAR
