BEGIN:VCALENDAR
VERSION:2.0
PRODID:-//ChamberMaster//Event Calendar 2.0//EN
METHOD:PUBLISH
X-PUBLISHED-TTL:P3D
REFRESH-INTERVAL:P3D
CALSCALE:GREGORIAN
BEGIN:VEVENT
DTSTART:20250727T170000Z
DTEND:20250728T000000Z
X-MICROSOFT-CDO-ALLDAYEVENT:FALSE
SUMMARY:Through Their Eyes Gallery Show
DESCRIPTION:"Through Their Eyes" is a youth photography exhibit showcasing bold\, personal work from over 60 young photographers across the city. These emerging artists   many exhibiting for the first time   offer powerful\, unfiltered perspectives on their lives\, communities\, and creative vision.\n\n\n\n The exhibit is free and open to the public\, featuring community voting and an artist's reception. It's a rare opportunity to see LA through the eyes of its youth   and to support the visibility and voice of a new generation of artists.
X-ALT-DESC;FMTTYPE=text/html:&ldquo\;Through Their Eyes&rdquo\; is a youth photography exhibit showcasing bold\, personal work from over 60 young photographers across the city. These emerging artists &mdash\; many exhibiting for the first time &mdash\; offer powerful\, unfiltered perspectives on their lives\, communities\, and creative vision.<br />\n<br />\n&nbsp\;The exhibit is free and open to the public\, featuring community voting and an artist&rsquo\;s reception. It&rsquo\;s a rare opportunity to see LA through the eyes of its youth &mdash\; and to support the visibility and voice of a new generation of artists.
LOCATION:Art Printer 12512 W Washington Blvd Los Angeles\, CA 90066
UID:e.2438.12480
SEQUENCE:3
DTSTAMP:20260423T035932Z
URL:https://business.hbchamber.net/events/details/through-their-eyes-gallery-show-12480
END:VEVENT

END:VCALENDAR
