BEGIN:VCALENDAR
VERSION:2.0
PRODID:-//ChamberMaster//Event Calendar 2.0//EN
METHOD:PUBLISH
X-PUBLISHED-TTL:P3D
REFRESH-INTERVAL:P3D
CALSCALE:GREGORIAN
BEGIN:VEVENT
DTSTART:20220423T143000Z
DTEND:20220424T000000Z
X-MICROSOFT-CDO-ALLDAYEVENT:FALSE
SUMMARY:The Subaru Pacific South Bey Surf Series
DESCRIPTION:The Subaru Pacific South Bay Surf Series is an all ages surf contest hosted on the South Side of the Pier.
X-ALT-DESC;FMTTYPE=text/html:<p style="box-sizing: border-box\; margin: 0px 0px 1em\; color: rgb(21\, 27\, 33)\; font-family: Cabin\, sans-serif\; font-size: 18px\; background-color: rgb(247\, 246\, 244)\; text-align: center\;">The Subaru Pacific South Bay Surf Series is an all ages surf contest hosted on the South Side of the Pier.&nbsp\;</p>\n
LOCATION:Beach and Strand 1 Pier Avenue Hermosa Beach\, California 90254
UID:e.2438.5403
SEQUENCE:3
DTSTAMP:20260421T092035Z
URL:https://business.hbchamber.net/events/details/the-subaru-pacific-south-bey-surf-series-5403
END:VEVENT

END:VCALENDAR
