BEGIN:VCALENDAR
VERSION:2.0
PRODID:-//ChamberMaster//Event Calendar 2.0//EN
METHOD:PUBLISH
X-PUBLISHED-TTL:P3D
REFRESH-INTERVAL:P3D
CALSCALE:GREGORIAN
BEGIN:VEVENT
DTSTART:20220327T200000Z
DTEND:20220327T213000Z
X-MICROSOFT-CDO-ALLDAYEVENT:FALSE
SUMMARY:The Queen's Brunch..A Drag Show @ Agave Azul
DESCRIPTION:Agave Azul presents Drag Brunch!
X-ALT-DESC;FMTTYPE=text/html:Agave Azul presents Drag Brunch!<br />\n<br />\n&nbsp\;
LOCATION:Agave Azul 1320 Hermosa Ave. Hermosa Beach\, 90254
UID:e.2438.5380
SEQUENCE:3
DTSTAMP:20260421T105845Z
URL:https://business.hbchamber.net/events/details/the-queen-s-brunch-a-drag-show-agave-azul-5380
END:VEVENT

END:VCALENDAR
