BEGIN:VCALENDAR
VERSION:2.0
PRODID:-//ChamberMaster//Event Calendar 2.0//EN
METHOD:PUBLISH
X-PUBLISHED-TTL:P3D
REFRESH-INTERVAL:P3D
CALSCALE:GREGORIAN
BEGIN:VEVENT
DTSTART:20210825T010000Z
DTEND:20210825T030000Z
X-MICROSOFT-CDO-ALLDAYEVENT:FALSE
SUMMARY:The Brews Hall - Torrance Memorial Event
DESCRIPTION:Torrance Memorial Physicians talk about keeping health a priority this season.
X-ALT-DESC;FMTTYPE=text/html:Torrance Memorial Physicians talk about keeping health a priority this season.&nbsp\;
LOCATION:The Brews Hall 73 Pier Ave. Hermosa Beach\, CA 90254
UID:e.2438.4383
SEQUENCE:3
DTSTAMP:20260419T115518Z
URL:https://business.hbchamber.net/events/details/the-brews-hall-torrance-memorial-event-4383
END:VEVENT

END:VCALENDAR
