BEGIN:VCALENDAR
VERSION:2.0
PRODID:-//ChamberMaster//Event Calendar 2.0//EN
METHOD:PUBLISH
X-PUBLISHED-TTL:P3D
REFRESH-INTERVAL:P3D
CALSCALE:GREGORIAN
BEGIN:VEVENT
DTSTART:20220213T173000Z
DTEND:20220214T030000Z
X-MICROSOFT-CDO-ALLDAYEVENT:FALSE
SUMMARY:The Brews Hall Super Bowl Tailgate and Watch Party
DESCRIPTION:Huddle at The Brews Hall Super Bowl Tailgate and Watch Party!\n\n\n\nFor the big game day there will be beer and seltzer bucket specials\, large screen TVs\, Tailgate food\, and more!
X-ALT-DESC;FMTTYPE=text/html:<p>Huddle at The Brews Hall Super Bowl Tailgate and Watch Party!<br />\n<br />\nFor the big game day there will be beer and seltzer bucket specials\, large screen TVs\, Tailgate food\, and more!&nbsp\;</p>\n
LOCATION:The Brews Hall 73 Pier Ave. Hermosa Beach\, 90254
UID:e.2438.5066
SEQUENCE:3
DTSTAMP:20260421T134239Z
URL:https://business.hbchamber.net/events/details/the-brews-hall-super-bowl-tailgate-and-watch-party-5066
END:VEVENT

END:VCALENDAR
