BEGIN:VCALENDAR
VERSION:2.0
PRODID:-//ChamberMaster//Event Calendar 2.0//EN
METHOD:PUBLISH
X-PUBLISHED-TTL:P3D
REFRESH-INTERVAL:P3D
CALSCALE:GREGORIAN
BEGIN:VEVENT
DTSTART:20250518T220000Z
DTEND:20250519T003000Z
X-MICROSOFT-CDO-ALLDAYEVENT:FALSE
SUMMARY:The Best of Southern Italy
DESCRIPTION:Uncorked presents an unforgettable afternoon exploring Southern Italian wines led by sommelier and wine educator Nadia Pavlevska.\n\n\n\nBegin with a sparkling wine reception\, then join a guided tasting seminar featuring 7-8 carefully selected wines\, tips on wine evaluation and Italian regulations and labels\, plus insights on food pairings\, aging\, and storage. Sample classic and rare varietals alongside Italian cheese and charcuterie.\n\n\n\nThe Best of Southern Italy offers a lively\, educational experience for both enthusiasts and connoisseurs alike!\n\n\n\nNadia R. Pavlevska\, CSW\, FWS\, IWS\, Certified Sommelier
X-ALT-DESC;FMTTYPE=text/html:Uncorked presents an unforgettable afternoon exploring Southern Italian wines led by sommelier and wine educator Nadia Pavlevska.<br />\n<br />\nBegin with a sparkling wine reception\, then join a guided tasting seminar featuring 7-8 carefully selected wines\, tips on wine evaluation and Italian regulations and labels\, plus insights on food pairings\, aging\, and storage. Sample classic and rare varietals alongside Italian cheese and charcuterie.<br />\n<br />\nThe Best of Southern Italy offers a lively\, educational experience for both enthusiasts and connoisseurs alike!<br />\n<br />\nNadia R. Pavlevska\, CSW\, FWS\, IWS\, Certified Sommelier
LOCATION:Uncorked Manhattan Beach 1000 Manhattan Ave Manhattan Beach\, CA 90266
UID:e.2438.11528
SEQUENCE:3
DTSTAMP:20260422T225249Z
URL:https://business.hbchamber.net/events/details/the-best-of-southern-italy-11528
END:VEVENT

END:VCALENDAR
