BEGIN:VCALENDAR
VERSION:2.0
PRODID:-//ChamberMaster//Event Calendar 2.0//EN
METHOD:PUBLISH
X-PUBLISHED-TTL:P3D
REFRESH-INTERVAL:P3D
CALSCALE:GREGORIAN
BEGIN:VEVENT
DTSTART:20250510T160000Z
DTEND:20250511T000000Z
X-MICROSOFT-CDO-ALLDAYEVENT:FALSE
SUMMARY:The Beach Football League presents: The Hermosa Classic
DESCRIPTION:Beach Football League (BFL) will host an event including tryouts for the BFL\, youth football clinics coached by NFL players and coaches\, autograph signings\, and youth flag and adult tackle football games south of the Pier.\n\n\n\nFor more information\, visit www.beachfootballleague.com.
X-ALT-DESC;FMTTYPE=text/html:Beach Football League (BFL) will host an event including tryouts for the BFL\, youth football clinics coached by NFL players and coaches\, autograph signings\, and youth flag and adult tackle football games south of the Pier.<br />\n<br />\nFor more information\, visit <a href="http://www.beachfootballleague.com">www.beachfootballleague.com</a>.
LOCATION:Hermosa Beach Pier 1 Pier Avenue Hermosa Beach\, California 90254
UID:e.2438.11567
SEQUENCE:3
DTSTAMP:20260422T225411Z
URL:https://business.hbchamber.net/events/details/the-beach-football-league-presents-the-hermosa-classic-11567
END:VEVENT

END:VCALENDAR
